Workbook

Sheet VC Summary
A1: HeyLily — VC Summary & Exit Scenarios
A3: COMPANY OVERVIEW
A4: Company | B4: HeyLily AI
A5: Sector | B5: AI-Powered Elder Care / Consumer Security
A6: Business Model | B6: B2B Community Lease + D2C Freemium SaaS
A7: Target Market | B7: 28,900+ ALH communities; 60M+ US seniors
A8: Key Differentiator | B8: AI Voice Screener + Stolen Funds Reimbursement
A10: FINANCIAL SUMMARY (3-Year)
B11: Year 1 | C11: Year 2 | D11: Year 3
A12: Total Revenue | B12: ='3-Yr Summary P&L'!B17 -> 199661.32 | C12: ='3-Yr Summary P&L'!C17 -> 4914202 | D12: ='3-Yr Summary P&L'!D17 -> 24571010
A13: Revenue Growth (YoY) | B13: N/A | C13: ='3-Yr Summary P&L'!C18 -> 23.612689 | D13: ='3-Yr Summary P&L'!D18 -> 4
A14: Gross Margin | B14: ='3-Yr Summary P&L'!B27 -> 0.34631885 | C14: ='3-Yr Summary P&L'!C27 -> 0.35451614 | D14: ='3-Yr Summary P&L'!D27 -> 0.39238628
A15: EBITDA | B15: ='3-Yr Summary P&L'!B45 -> -1600629.5 | C15: ='3-Yr Summary P&L'!C45 -> -2610728.7 | D15: ='3-Yr Summary P&L'!D45 -> -2452092.2
A16: ARR (end of year) | B16: ='3-Yr Summary P&L'!B47 -> 546022.44 | C16: ='3-Yr Summary P&L'!C47 -> 4914202 | D16: ='3-Yr Summary P&L'!D47 -> 24571010
A17: Total Users | B17: ='3-Yr Summary P&L'!B8 -> 32616 | C17: ='3-Yr Summary P&L'!C8 -> 293544 | D17: ='3-Yr Summary P&L'!D8 -> 1467720
A18: D2C Paid Subscribers | B18: ='3-Yr Summary P&L'!B6 -> 1713 | C18: ='3-Yr Summary P&L'!C6 -> 15417 | D18: ='3-Yr Summary P&L'!D6 -> 77085
A19: B2B Communities | B19: ='3-Yr Summary P&L'!B4 -> 93 | C19: ='3-Yr Summary P&L'!C4 -> 837 | D19: ='3-Yr Summary P&L'!D4 -> 4185
A20: Headcount | B20: ='3-Yr Summary P&L'!B9 -> 9 | C20: ='3-Yr Summary P&L'!C9 -> 14 | D20: ='3-Yr Summary P&L'!D9 -> 24
A21: Rev/Employee | B21: ='3-Yr Summary P&L'!B51 -> 22185 | C21: ='3-Yr Summary P&L'!C51 -> 351014 | D21: ='3-Yr Summary P&L'!D51 -> 1023792
A22: LTV:CAC (D2C) | B22: ='3-Yr Summary P&L'!B12 -> 3.7x | C22: ='3-Yr Summary P&L'!C12 -> 4.6 | D22: ='3-Yr Summary P&L'!D12 -> 6.1
A24: FUNDRAISING HISTORY & PLAN
B25: Seed | C25: Series A | D25: Series B | E25: Series C | F25: Series D
A26: Timing | B26: Year 0-1 | C26: Year 2 | D26: Year 4 | E26: Year 6 | F26: Year 8
A27: Amount Raised | B27: 2000000 | C27: 5000000 | D27: 20000000 | E27: 50000000 | F27: 100000000
A28: Pre-money Valuation | B28: 8000000 | C28: 25000000 | D28: 100000000 | E28: 300000000 | F28: 900000000
A29: Post-money Valuation | B29: =B28+B27 -> 10000000 | C29: =C28+C27 -> 30000000 | D29: =D28+D27 -> 120000000 | E29: =E28+E27 -> 350000000 | F29: =F28+F27 -> 1000000000
A30: Dilution (%) | B30: =B27/B29 -> 0.2 | C30: =C27/C29 -> 0.16666667 | D30: =D27/D29 -> 0.16666667 | E30: =E27/E29 -> 0.14285714 | F30: =F27/F29 -> 0.1
A31: Founder Ownership Post-Round | B31: =1-B30 -> 0.8 | C31: =B31*(1-C30)-C33 -> 0.56666667 | D31: =C31*(1-D30) -> 0.47222222 | E31: =D31*(1-E30)-(E33-D33*(1-E30)) -> 0.3547619 | F31: =E31*(1-F30) -> 0.31928571
A32: Investor Ownership | B32: =B30 -> 0.2 | C32: =B32*(1-C30)+C30 -> 0.33333333 | D32: =C32*(1-D30)+D30 -> 0.44444444 | E32: =D32*(1-E30)+E30 -> 0.52380952 | F32: =E32*(1-F30)+F30 -> 0.57142857
A33: ESOP Reserve | B33: 0 | C33: 0.1 | D33: =C33*(1-D30) -> 0.083333333 | E33: =D33*(1-E30)+0.05 -> 0.12142857 | F33: =E33*(1-F30) -> 0.10928571
A34: Key Milestones | B34: MVP, 93 communities, 1.7K D2C subs | C34: $1.1M ARR, 186 communities, PMF proven | D34: $9.8M ARR, 1,674 communities, scaling | E34: ~$50M ARR, national expansion | F34: ~$100M ARR
A36: EXIT SCENARIOS — $100M ARR (Year 8)
A37: Exit Assumptions
A38: Target ARR at Exit | B38: 250000000
A39: Exit Year | B39: 8
A40: Total Capital Raised (all rounds) | B40: =SUM(B27:F27) -> 177000000
A41: Founder Ownership at Exit (est.) | B41: =F31 -> 0.31928571
A42: Total Investor Ownership at Exit | B42: =F32 -> 0.57142857
A43: ESOP at Exit | B43: =F33 -> 0.10928571
A45: Exit Valuation Scenarios
...

Sheet Global Assumptions
A1: HeyLily — Global Assumptions & Drivers
A2: Assumption | B2: Value | C2: Unit | D2: Reasonableness Justification
A3: 1. CUSTOMER ACQUISITION
A4: B2B Community Lease Channel (ALH)
A5: ALH communities signed (Month 1) | B5: 1 | C5: communities | D5: Single pilot community at launch. ~28,900 ALH communities in the US (NCAL 2023). Starting with 1 enables deep product validation and a strong reference case study before scaling.
A6: New communities added (see schedule) | B6: Accelerating | C6: schedule | D6: Accelerating ramp: Mo2-Mo5 +3/mo, Mo6-Mo10 +10/mo, Mo11-12 +15/mo. Reflects learning curve, referral effects, and BD hire at Mo7. AI-native team automates onboarding and contract generation.
A7: Avg. residents per community | B7: 50 | C7: residents | D7: US ALH avg is 33 (small) to 100+ (large). 50 is mid-market. Community lease covers ALL residents (100% coverage). Revenue per community = 50 × $5 = $250/mo.
A8: Community lease rate per resident/mo | B8: 5 | C8: $/res/mo | D8: $5/resident/mo = $250/mo for a 50-bed community. Positioned as 'safety amenity' comparable to emergency pull-cord systems ($5-10/res/mo). Well within facility operating budgets.
A9: ALH resident adoption rate | B9: 0.4 | C9: % | D9: 40% of residents actively enrolled. Community pays flat lease for ALL residents, but adoption requires family consent + device setup. Conservative for elderly users.
A10: B2B CAC per community | B10: 800 | C10: $/comm. | D10: Founder-led sales cost: $800/community. Includes travel ($200), demo prep, legal/contracting. At $250/mo revenue per community, payback is ~3.2 months. Efficiency improves at scale with BD team and referral network.
A12: D2C Freemium Funnel
A13: D2C launch month | B13: 1 | C13: month # | D13: D2C launches Month 1 alongside B2B. Freemium app available at launch with paid marketing from day one to build parallel D2C traction.
A14: Free tier signups (launch month) | B14: 100 | C14: users | D14: 100 free signups in launch month from targeted Facebook/Google ads to adult children of elderly. Conservative vs. typical freemium launches (200-500).
A15: Free tier MoM signup growth rate | B15: 0.3 | C15: % MoM | D15: 30% MoM new free signups. Freemium apps with viral/referral loops (caregiver tells siblings/friends) typically see 25-40% MoM early growth. 'Soft Landing' retention of free users creates word-of-mouth engine.
A16: Free → Paid conversion rate | B16: 0.06 | C16: % | D16: 6% conversion from free to paid. Slightly conservative vs. security app benchmarks (8-15%, Sensor Tower) because: elder audience has slower adoption. High-intent audience + reimbursement hook supports this rate.
A17: D2C CAC per free signup | B17: 5 | C17: $/signup
A18: Paid tier mix: Protected plan | B18: 0.7 | C18: % | D18: 70% of paid converters choose Protected ($109/yr). Individual plan is default conversion path. Family plan requires coordinating 4 accounts — higher friction but higher value. Mix shifts toward Family over time as product awareness grows.
A19: Paid tier mix: Family plan | B19: 0.3 | C19: % | D19: 30% choose Family plan ($240/yr, covers 4 accounts). 'Sandwich Generation' caregiver installs for both parents + in-laws. Per-person cost is $5/mo vs. $9.08/mo Protected — strong value prop drives family adoption.
A21: 2. UNIT ECONOMICS & PRICING
A22: Pricing Tiers
A23: Free Tier: monthly revenue | B23: 0 | C23: $/mo | D23: Auto-blocking + Trust Circle. No revenue. Purpose: (1) build trust before upsell, (2) create word-of-mouth, (3) 'Soft Landing' for expired trials retains users in ecosystem vs. full churn.
A24: Protected Tier: annual price | B24: 120 | C24: $/yr | D24: $109/yr ($9.08/mo effective). Mid-point of $99-$119 range. AI Voice Screener + $10K Stolen Funds Reimbursement. Benchmarks: Robokiller $4.99/mo, Life360 $14.99/mo, Norton LifeLock $9.99/mo. $109 justified by reimbursement hook.
A25: Protected Tier: effective monthly | B25: 9.99 | C25: $/mo | D25: Calculated: Annual price / 12. Revenue recognized monthly on straight-line basis.
A26: Family Tier: annual price | B26: 240 | C26: $/yr | D26: $240/yr covers 4 accounts = $5/person/mo. 45% discount vs. individual Protected. Targets 'Sandwich Generation' caregivers managing parents + in-laws. Family plans drive 2-4x retention vs. individual (Spotify/Netflix data).
A27: Family Tier: effective monthly | B27: 19.99 | C27: $/mo | D27: Calculated: Annual price / 12. Single subscription covering 4 protected individuals.
A28: D2C Blended ARPU (monthly) | B28: 12.99 | C28: $/sub/mo | D28: Calculated: (70% × $10.00) + (30% × $20.00) = $12.99/mo per paid subscription. Note: Family plan counts as 1 subscription at $20/mo, covering 4 people.
A29: D2C Blended ARPU (annual) | B29: 155.88 | C29: $/sub/yr | D29: Calculated: Monthly ARPU × 12. Validates against ~$100/yr ARPU target. Note: B2B community lease revenue is separate and additive to overall blended ARPU.
A31: COGS / Variable Costs
A32: AI compute cost per active user/mo | B32: 0.85 | C32: $/user/mo | D32: Real-time voice analysis (Whisper + LLM inference). Avg elderly user: ~15 calls/mo, ~30% flagged (~5 calls). At $0.006/min Whisper + $0.03/call LLM, ~$0.17/analyzed call. 5 calls × $0.17 = $0.85. Free tier users have lighter compute (auto-block only, no AI screener).
A33: Free tier compute cost (% of paid) | B33: 0.25 | C33: % | D33: Free tier only runs auto-blocking (pattern matching, no AI Voice Screener). Compute is ~25% of paid tier cost. Keeps free tier unit economics manageable while reserving expensive AI features for paid.
A34: Telecom/VoIP API cost per user/mo | B34: 0.65 | C34: $/user/mo | D34: Twilio/Vonage for call monitoring. ~15 calls/mo × 3 min avg = 45 min × $0.013/min = $0.59, plus SMS alerts to Trust Circle ~$0.06. Applies to all active users (free + paid).
A35: Payment processing (% of revenue) | B35: 0.029 | C35: % | D35: Stripe standard: 2.9% + $0.30/txn. On annual billing ($109-$240), the fixed fee impact is minimal (~0.3%). For B2B invoicing, may use ACH ($0.80 flat) — even lower.
A36: Reimbursement reserve (% of paid rev) | B36: 0.02 | C36: % | D36: $10K coverage. Expected claim rate: <0.5% of subscribers/yr (product should PREVENT scams). 2% of paid revenue reserved for potential claims + insurance premium for the reimbursement program. Benchmarks: identity theft insurance costs insurers ~1-3% of premium.
A38: Retention & Churn
A39: Paid subscriber monthly churn | B39: 0.05 | C39: % /mo | D39: 5% monthly churn = ~46% annual retention = 20-month avg lifetime. Conservative for security apps — 'Soft Landing' to free tier means paid churn ≠ lost user. Can improve to 3% by Y3.
A40: Free tier monthly churn | B40: 0.08 | C40: % /mo | D40: 8% monthly churn on free tier (higher than paid). Free users have less commitment, but auto-blocking provides ongoing value. Freemium app benchmark: 6-12% monthly (Recurly 2023). Churned users replaced by ongoing marketing spend.
A41: Implied paid subscriber lifetime | B41: 20 | C41: months | D41: Calculated: 1 / monthly churn. At 5%, avg lifetime = 20 months. LTV = 20 × $12.99 ARPU = ~$260. Conservative vs. industry — security apps are sticky.
A43: 3. OPERATING EXPENSES
A44: Headcount & Compensation
A45: Founder salary (each, monthly) | B45: 7000 | C45: $/mo | D45: $84K/yr per founder. Below market ($150K+) but standard for seed-stage. Equity offsets cash discount. Covers living expenses in most metros.
...

Sheet 12-Mo Projections
A1: HeyLily — 12-Month Detailed Projections
B2: Month 1 | C2: Month 2 | D2: Month 3 | E2: Month 4 | F2: Month 5 | G2: Month 6 | H2: Month 7 | I2: Month 8 | J2: Month 9 | K2: Month 10 | L2: Month 11 | M2: Month 12 | N2: Driving Assumption / Formula Logic
A3: SUBSCRIBER GROWTH
A4: B2B Community Lease
A5: Cumulative communities | B5: 1 | C5: 4 | D5: 7 | E5: 10 | F5: 13 | G5: 23 | H5: 33 | I5: 43 | J5: 53 | K5: 63 | L5: 78 | M5: 93 | N5: Accelerating ramp: Mo1=1, Mo2=4, ..., Mo12=93. Hardcoded community count.
A6: B2B total residents (lease base) | B6: =B5*'Global Assumptions'!B7 -> 50 | C6: =C5*'Global Assumptions'!B7 -> 200 | D6: =D5*'Global Assumptions'!B7 -> 350 | E6: =E5*'Global Assumptions'!B7 -> 500 | F6: =F5*'Global Assumptions'!B7 -> 650 | G6: =G5*'Global Assumptions'!B7 -> 1150 | H6: =H5*'Global Assumptions'!B7 -> 1650 | I6: =I5*'Global Assumptions'!B7 -> 2150 | J6: =J5*'Global Assumptions'!B7 -> 2650 | K6: =K5*'Global Assumptions'!B7 -> 3150 | L6: =L5*'Global Assumptions'!B7 -> 3900 | M6: =M5*'Global Assumptions'!B7 -> 4650 | N6: Communities × GA!B7 (50 residents/community)
A7: B2B monthly revenue | B7: =B6*'Global Assumptions'!B8 -> 250 | C7: =C6*'Global Assumptions'!B8 -> 1000 | D7: =D6*'Global Assumptions'!B8 -> 1750 | E7: =E6*'Global Assumptions'!B8 -> 2500 | F7: =F6*'Global Assumptions'!B8 -> 3250 | G7: =G6*'Global Assumptions'!B8 -> 5750 | H7: =H6*'Global Assumptions'!B8 -> 8250 | I7: =I6*'Global Assumptions'!B8 -> 10750 | J7: =J6*'Global Assumptions'!B8 -> 13250 | K7: =K6*'Global Assumptions'!B8 -> 15750 | L7: =L6*'Global Assumptions'!B8 -> 19500 | M7: =M6*'Global Assumptions'!B8 -> 23250 | N7: Total residents × GA!B8 ($5/res/mo lease)
A8: B2B active users (adopted) | B8: =ROUND(B6*'Global Assumptions'!B9,0) -> 20 | C8: =ROUND(C6*'Global Assumptions'!B9,0) -> 80 | D8: =ROUND(D6*'Global Assumptions'!B9,0) -> 140 | E8: =ROUND(E6*'Global Assumptions'!B9,0) -> 200 | F8: =ROUND(F6*'Global Assumptions'!B9,0) -> 260 | G8: =ROUND(G6*'Global Assumptions'!B9,0) -> 460 | H8: =ROUND(H6*'Global Assumptions'!B9,0) -> 660 | I8: =ROUND(I6*'Global Assumptions'!B9,0) -> 860 | J8: =ROUND(J6*'Global Assumptions'!B9,0) -> 1060 | K8: =ROUND(K6*'Global Assumptions'!B9,0) -> 1260 | L8: =ROUND(L6*'Global Assumptions'!B9,0) -> 1560 | M8: =ROUND(M6*'Global Assumptions'!B9,0) -> 1860 | N8: Residents × GA!B9 (40% adoption). Active users incur compute COGS.
A9: D2C Freemium Funnel
A10: Paid acquisition budget | B10: ='Global Assumptions'!B70 -> 3000 | C10: =ROUND(B10*(1+'Global Assumptions'!B71),0) -> 3750 | D10: =ROUND(C10*(1+'Global Assumptions'!B71),0) -> 4688 | E10: =ROUND(D10*(1+'Global Assumptions'!B71),0) -> 5860 | F10: =ROUND(E10*(1+'Global Assumptions'!B71),0) -> 7325 | G10: =ROUND(F10*(1+'Global Assumptions'!B71),0) -> 9156 | H10: =ROUND(G10*(1+'Global Assumptions'!B71),0) -> 11445 | I10: =ROUND(H10*(1+'Global Assumptions'!B71),0) -> 14306 | J10: =ROUND(I10*(1+'Global Assumptions'!B71),0) -> 17883 | K10: =ROUND(J10*(1+'Global Assumptions'!B71),0) -> 22354 | L10: =ROUND(K10*(1+'Global Assumptions'!B71),0) -> 27943 | M10: =ROUND(L10*(1+'Global Assumptions'!B71),0) -> 34929 | N10: GA!B70 (Mo1), then prior × (1+GA!B71 15% MoM). KEY LEVER.
A11: Paid signups from ads | B11: =ROUND(B10/'Global Assumptions'!B72,0) -> 600 | C11: =ROUND(C10/'Global Assumptions'!B72,0) -> 750 | D11: =ROUND(D10/'Global Assumptions'!B72,0) -> 938 | E11: =ROUND(E10/'Global Assumptions'!B72,0) -> 1172 | F11: =ROUND(F10/'Global Assumptions'!B72,0) -> 1465 | G11: =ROUND(G10/'Global Assumptions'!B72,0) -> 1831 | H11: =ROUND(H10/'Global Assumptions'!B72,0) -> 2289 | I11: =ROUND(I10/'Global Assumptions'!B72,0) -> 2861 | J11: =ROUND(J10/'Global Assumptions'!B72,0) -> 3577 | K11: =ROUND(K10/'Global Assumptions'!B72,0) -> 4471 | L11: =ROUND(L10/'Global Assumptions'!B72,0) -> 5589 | M11: =ROUND(M10/'Global Assumptions'!B72,0) -> 6986 | N11: Paid budget ÷ GA!B72 ($5/signup). Increase budget = more signups.
A12: Organic signups | B12: ='Global Assumptions'!B73 -> 30 | C12: =ROUND(B12*(1+'Global Assumptions'!B74),0) -> 33 | D12: =ROUND(C12*(1+'Global Assumptions'!B74),0) -> 36 | E12: =ROUND(D12*(1+'Global Assumptions'!B74),0) -> 40 | F12: =ROUND(E12*(1+'Global Assumptions'!B74),0) -> 44 | G12: =ROUND(F12*(1+'Global Assumptions'!B74),0) -> 48 | H12: =ROUND(G12*(1+'Global Assumptions'!B74),0) -> 53 | I12: =ROUND(H12*(1+'Global Assumptions'!B74),0) -> 58 | J12: =ROUND(I12*(1+'Global Assumptions'!B74),0) -> 64 | K12: =ROUND(J12*(1+'Global Assumptions'!B74),0) -> 70 | L12: =ROUND(K12*(1+'Global Assumptions'!B74),0) -> 77 | M12: =ROUND(L12*(1+'Global Assumptions'!B74),0) -> 85 | N12: GA!B73 base, grows at GA!B74 (10% MoM). Word-of-mouth + SEO.
A13: Total new free signups (monthly) | B13: =B11+B12 -> 630 | C13: =C11+C12 -> 783 | D13: =D11+D12 -> 974 | E13: =E11+E12 -> 1212 | F13: =F11+F12 -> 1509 | G13: =G11+G12 -> 1879 | H13: =H11+H12 -> 2342 | I13: =I11+I12 -> 2919 | ... M13: =M11+M12 -> 7071 | N13: Paid signups + organic signups. Total monthly acquisition.
A14: Cumulative free users | B14: =B13 -> 630 | C14: =ROUND(B14*(1-'Global Assumptions'!B40)+C13,0) -> 1363 | D14: =ROUND(C14*(1-'Global Assumptions'!B40)+D13,0) -> 2228 | E14: =ROUND(D14*(1-'Global Assumptions'!B40)+E13,0) -> 3262 | F14: =ROUND(E14*(1-'Global Assumptions'!B40)+F13,0) -> 4510 | G14: =ROUND(F14*(1-'Global Assumptions'!B40)+G13,0) -> 6028 | H14: =ROUND(G14*(1-'Global Assumptions'!B40)+H13,0) -> 7888 | I14: =ROUND(H14*(1-'Global Assumptions'!B40)+I13,0) -> 10176 | J14: =ROUND(I14*(1-'Global Assumptions'!B40)+J13,0) -> 13003 | K14: =ROUND(J14*(1-'Global Assumptions'!B40)+K13,0) -> 16504 | L14: =ROUND(K14*(1-'Global Assumptions'!B40)+L13,0) -> 20850 | M14: =ROUND(L14*(1-'Global Assumptions'!B40)+M13,0) -> 26253 | N14: Prior free × (1 - 8% churn) + new signups.
A15: New paid conversions (monthly) | B15: =ROUND(B13*'Global Assumptions'!B16,0) -> 38 | C15: =ROUND(C13*'Global Assumptions'!B16,0) -> 47 | D15: =ROUND(D13*'Global Assumptions'!B16,0) -> 58 | E15: =ROUND(E13*'Global Assumptions'!B16,0) -> 73 | F15: =ROUND(F13*'Global Assumptions'!B16,0) -> 91 | G15: =ROUND(G13*'Global Assumptions'!B16,0) -> 113 | H15: =ROUND(H13*'Global Assumptions'!B16,0) -> 141 | I15: =ROUND(I13*'Global Assumptions'!B16,0) -> 175 | J15: =ROUND(J13*'Global Assumptions'!B16,0) -> 218 | K15: =ROUND(K13*'Global Assumptions'!B16,0) -> 272 | L15: =ROUND(L13*'Global Assumptions'!B16,0) -> 340 | M15: =ROUND(M13*'Global Assumptions'!B16,0) -> 424 | N15: New signups × GA!B16 (7% conversion). From each month's cohort.
A16: Cumulative D2C paid subs | B16: =B15 -> 38 | C16: =ROUND(B16*(1-'Global Assumptions'!B39)+C15,0) -> 83 | D16: =ROUND(C16*(1-'Global Assumptions'!B39)+D15,0) -> 137 | E16: =ROUND(D16*(1-'Global Assumptions'!B39)+E15,0) -> 203 | F16: =ROUND(E16*(1-'Global Assumptions'!B39)+F15,0) -> 284 | G16: =ROUND(F16*(1-'Global Assumptions'!B39)+G15,0) -> 383 | H16: =ROUND(G16*(1-'Global Assumptions'!B39)+H15,0) -> 505 | I16: =ROUND(H16*(1-'Global Assumptions'!B39)+I15,0) -> 655 | J16: =ROUND(I16*(1-'Global Assumptions'!B39)+J15,0) -> 840 | K16: =ROUND(J16*(1-'Global Assumptions'!B39)+K15,0) -> 1070 | L16: =ROUND(K16*(1-'Global Assumptions'!B39)+L15,0) -> 1357 | M16: =ROUND(L16*(1-'Global Assumptions'!B39)+M15,0) -> 1713 | N16: Prior paid × (1 - 5% churn) + new conversions.
A17: D2C paid monthly revenue | B17: =B16*'Global Assumptions'!B28 -> 493.62 | C17: =C16*'Global Assumptions'!B28 -> 1078.17 | D17: =D16*'Global Assumptions'!B28 -> 1779.63 | E17: =E16*'Global Assumptions'!B28 -> 2636.97 | F17: =F16*'Global Assumptions'!B28 -> 3689.16 | G17: =G16*'Global Assumptions'!B28 -> 4975.17 | H17: =H16*'Global Assumptions'!B28 -> 6559.95 | I17: =I16*'Global Assumptions'!B28 -> 8508.45 | J17: =J16*'Global Assumptions'!B28 -> 10911.6 | K17: =K16*'Global Assumptions'!B28 -> 13899.3 | L17: =L16*'Global Assumptions'!B28 -> 17627.43 | M17: =M16*'Global Assumptions'!B28 -> 22251.87 | N17: Paid subs × GA!B28 ($12.99 blended ARPU/mo).
A18: Total active users (all tiers) | B18: =B8+B14+B16 -> 688 | C18: =C8+C14+C16 -> 1526 | D18: =D8+D14+D16 -> 2505 | E18: =E8+E14+E16 -> 3665 | F18: =F8+F14+F16 -> 5054 | G18: =G8+G14+G16 -> 6871 | H18: =H8+H14+H16 -> 9053 | I18: =I8+I14+I16 -> 11691 | ... M18: =M8+M14+M16 -> 29826 | N18: B2B active + D2C free + D2C paid.
A20: INCOME STATEMENT
A21: B2B community lease revenue | B21: =B7 -> 250 | C21: =C7 -> 1000 | D21: =D7 -> 1750 | E21: =E7 -> 2500 | F21: =F7 -> 3250 | G21: =G7 -> 5750 | H21: =H7 -> 8250 | I21: =I7 -> 10750 | ... M21: =M7 -> 23250
A22: D2C paid subscription revenue | B22: =B17 -> 493.62 | C22: =C17 -> 1078.17 | D22: =D17 -> 1779.63 | E22: =E17 -> 2636.97 | F22: =F17 -> 3689.16 | G22: =G17 -> 4975.17 | H22: =H17 -> 6559.95 | I22: =I17 -> 8508.45 | ... M22: =M17 -> 22251.87
A23: Total Revenue | B23: =B21+B22 -> 743.62 | C23: =C21+C22 -> 2078.17 | D23: =D21+D22 -> 3529.63 | E23: =E21+E22 -> 5136.97 | F23: =F21+F22 -> 6939.16 | G23: =G21+G22 -> 10725.17 | H23: =H21+H22 -> 14809.95 | I23: =I21+I22 -> 19258.45 | ... M23: =M21+M22 -> 45501.87
A25: Cost of Revenue (COGS)
A26: AI compute (paid users) | B26: =(B8+B16)*'Global Assumptions'!B32 -> 49.3 | C26: =(C8+C16)*'Global Assumptions'!B32 -> 138.55 | D26: =(D8+D16)*'Global Assumptions'!B32 -> 235.45 | E26: =(E8+E16)*'Global Assumptions'!B32 -> 342.55 | F26: =(F8+F16)*'Global Assumptions'!B32 -> 462.4 | G26: =(G8+G16)*'Global Assumptions'!B32 -> 716.55 | H26: =(H8+H16)*'Global Assumptions'!B32 -> 990.25 | I26: =(I8+I16)*'Global Assumptions'!B32 -> 1287.75 | J26: =(J8+J16)*'Global Assumptions'!B32 -> 1615 | K26: =(K8+K16)*'Global Assumptions'!B32 -> 1980.5 | L26: =(L8+L16)*'Global Assumptions'!B32 -> 2479.45 | M26: =(M8+M16)*'Global Assumptions'!B32 -> 3037.05
A27: AI compute (free users) | B27: =B14*'Global Assumptions'!B32*'Global Assumptions'!B33 -> 133.875 | C27: =C14*'Global Assumptions'!B32*'Global Assumptions'!B33 -> 289.6375 | D27: =D14*'Global Assumptions'!B32*'Global Assumptions'!B33 -> 473.45 | E27: =E14*'Global Assumptions'!B32*'Global Assumptions'!B33 -> 693.175 | F27: =F14*'Global Assumptions'!B32*'Global Assumptions'!B33 -> 958.375 | G27: =G14*'Global Assumptions'!B32*'Global Assumptions'!B33 -> 1280.95 | H27: =H14*'Global Assumptions'!B32*'Global Assumptions'!B33 -> 1676.2 | I27: =I14*'Global Assumptions'!B32*'Global Assumptions'!B33 -> 2162.4 | J27: =J14*'Global Assumptions'!B32*'Global Assumptions'!B33 -> 2763.1375 | K27: =K14*'Global Assumptions'!B32*'Global Assumptions'!B33 -> 3507.1 | L27: =L14*'Global Assumptions'!B32*'Global Assumptions'!B33 -> 4430.625 | M27: =M14*'Global Assumptions'!B32*'Global Assumptions'!B33 -> 5578.7625
A28: Telecom/VoIP API (all users) | B28: =B18*'Global Assumptions'!B34 -> 447.2 | C28: =C18*'Global Assumptions'!B34 -> 991.9 | D28: =D18*'Global Assumptions'!B34 -> 1628.25 | E28: =E18*'Global Assumptions'!B34 -> 2382.25 | F28: =F18*'Global Assumptions'!B34 -> 3285.1 | G28: =G18*'Global Assumptions'!B34 -> 4466.15 | H28: =H18*'Global Assumptions'!B34 -> 5884.45 | I28: =I18*'Global Assumptions'!B34 -> 7599.15 | J28: =J18*'Global Assumptions'!B34 -> 9686.95 | K28: =K18*'Global Assumptions'!B34 -> 12242.1 | L28: =L18*'Global Assumptions'!B34 -> 15448.55 | M28: =M18*'Global Assumptions'!B34 -> 19386.9
A29: Payment processing | B29: =B23*'Global Assumptions'!B35 -> 21.56498 | C29: =C23*'Global Assumptions'!B35 -> 60.26693 | D29: =D23*'Global Assumptions'!B35 -> 102.35927 | E29: =E23*'Global Assumptions'!B35 -> 148.97213 | F29: =F23*'Global Assumptions'!B35 -> 201.23564 | G29: =G23*'Global Assumptions'!B35 -> 311.02993 | H29: =H23*'Global Assumptions'!B35 -> 429.48855 | I29: =I23*'Global Assumptions'!B35 -> 558.49505 | J29: =J23*'Global Assumptions'!B35 -> 700.6864 | K29: =K23*'Global Assumptions'!B35 -> 859.8297 | L29: =L23*'Global Assumptions'!B35 -> 1076.6955 | M29: =M23*'Global Assumptions'!B35 -> 1319.5542
A30: Reimbursement reserve | B30: =(B21+B22)*'Global Assumptions'!B36 -> 14.8724 | C30: =(C21+C22)*'Global Assumptions'!B36 -> 41.5634 | D30: =(D21+D22)*'Global Assumptions'!B36 -> 70.5926 | E30: =(E21+E22)*'Global Assumptions'!B36 -> 102.7394 | F30: =(F21+F22)*'Global Assumptions'!B36 -> 138.7832 | G30: =(G21+G22)*'Global Assumptions'!B36 -> 214.5034 | H30: =(H21+H22)*'Global Assumptions'!B36 -> 296.199 | I30: =(I21+I22)*'Global Assumptions'!B36 -> 385.169 | J30: =(J21+J22)*'Global Assumptions'!B36 -> 483.232 | K30: =(K21+K22)*'Global Assumptions'!B36 -> 592.986 | L30: =(L21+L22)*'Global Assumptions'!B36 -> 742.5486 | M30: =(M21+M22)*'Global Assumptions'!B36 -> 910.0374
A31: Total COGS | B31: =SUM(B26:B30) -> 666.81238 | C31: =SUM(C26:C30) -> 1521.9178 | D31: =SUM(D26:D30) -> 2510.1019 | E31: =SUM(E26:E30) -> 3669.6865 | F31: =SUM(F26:F30) -> 5045.8938 | G31: =SUM(G26:G30) -> 6989.1833 | H31: =SUM(H26:H30) -> 9276.5876 | I31: =SUM(I26:I30) -> 11992.964 | ... M31: =SUM(M26:M30) -> 30232.304
A32: Gross Profit | B32: =B23-B31 -> 76.80762 | C32: =C23-C31 -> 556.25217 | D32: =D23-D31 -> 1019.5281 | E32: =E23-E31 -> 1467.2835 | F32: =F23-F31 -> 1893.2662 | G32: =G23-G31 -> 3735.9867 | H32: =H23-H31 -> 5533.3625 | I32: =I23-I31 -> 7265.486 | ... M32: =M23-M31 -> 15269.566
A33: Gross Margin % | B33: =IF(B23=0,0,B32/B23) -> 0.1032888 | C33: =IF(C23=0,0,C32/C23) -> 0.26766442 | D33: =IF(D23=0,0,D32/D23) -> 0.28884844 | E33: =IF(E23=0,0,E32/E23) -> 0.28563209 | F33: =IF(F23=0,0,F32/F23) -> 0.27283795 | G33: =IF(G23=0,0,G32/G23) -> 0.34833822 | H33: =IF(H23=0,0,H32/H23) -> 0.37362465 | I33: =IF(I23=0,0,I32/I23) -> 0.37726224 | ... M33: =IF(M23=0,0,M32/M23) -> 0.33558106
A35: Operating Expenses
A36: Payroll — Founders | B36: ='Global Assumptions'!B45*'Global Assumptions'!B46 -> 14000 | C36: ='Global Assumptions'!B45*'Global Assumptions'!B46 -> 14000 | D36: ='Global Assumptions'!B45*'Global Assumptions'!B46 -> 14000 | E36: ='Global Assumptions'!B45*'Global Assumptions'!B46 -> 14000 | F36: ='Global Assumptions'!B45*'Global Assumptions'!B46 -> 14000 | G36: ='Global Assumptions'!B45*'Global Assumptions'!B46 -> 14000 | H36: ='Global Assumptions'!B45*'Global Assumptions'!B46 -> 14000 | I36: ='Global Assumptions'!B45*'Global Assumptions'!B46 -> 14000 | J36: ='Global Assumptions'!B45*'Global Assumptions'!B46 -> 14000 | K36: ='Global Assumptions'!B45*'Global Assumptions'!B46 -> 14000 | L36: ='Global Assumptions'!B45*'Global Assumptions'!B46 -> 14000 | M36: ='Global Assumptions'!B45*'Global Assumptions'!B46 -> 14000
A37: Payroll — Engineers | B37: ='Global Assumptions'!B47*'Global Assumptions'!B48 -> 20000 | C37: ='Global Assumptions'!B47*'Global Assumptions'!B48 -> 20000 | D37: ='Global Assumptions'!B47*'Global Assumptions'!B48 -> 20000 | E37: ='Global Assumptions'!B47*'Global Assumptions'!B48 -> 20000 | F37: ='Global Assumptions'!B47*'Global Assumptions'!B48 -> 20000 | G37: ='Global Assumptions'!B47*'Global Assumptions'!B48 -> 20000 | H37: ='Global Assumptions'!B47*'Global Assumptions'!B48 -> 20000 | I37: ='Global Assumptions'!B47*'Global Assumptions'!B48 -> 20000 | J37: ='Global Assumptions'!B47*'Global Assumptions'!B48 -> 20000 | K37: ='Global Assumptions'!B47*'Global Assumptions'!B48 -> 20000 | L37: ='Global Assumptions'!B47*'Global Assumptions'!B48 -> 20000 | M37: ='Global Assumptions'!B47*'Global Assumptions'!B48 -> 20000
A38: Payroll — BD/Sales | B38: =IF(1>='Global Assumptions'!B49,'Global Assumptions'!B50,0) -> 0 | C38: =IF(2>='Global Assumptions'!B49,'Global Assumptions'!B50,0) -> 0 | D38: =IF(3>='Global Assumptions'!B49,'Global Assumptions'!B50,0) -> 0 | E38: =IF(4>='Global Assumptions'!B49,'Global Assumptions'!B50,0) -> 0 | F38: =IF(5>='Global Assumptions'!B49,'Global Assumptions'!B50,0) -> 0 | G38: =IF(6>='Global Assumptions'!B49,'Global Assumptions'!B50,0) -> 0 | H38: =IF(7>='Global Assumptions'!B49,'Global Assumptions'!B50,0) -> 6000 | I38: =IF(8>='Global Assumptions'!B49,'Global Assumptions'!B50,0) -> 6000 | J38: =IF(9>='Global Assumptions'!B49,'Global Assumptions'!B50,0) -> 6000 | K38: =IF(10>='Global Assumptions'!B49,'Global Assumptions'!B50,0) -> 6000 | L38: =IF(11>='Global Assumptions'!B49,'Global Assumptions'!B50,0) -> 6000 | M38: =IF(12>='Global Assumptions'!B49,'Global Assumptions'!B50,0) -> 6000
A39: Payroll — Marketing | B39: =IF(1>='Global Assumptions'!B51,'Global Assumptions'!B52,0) -> 0 | C39: =IF(2>='Global Assumptions'!B51,'Global Assumptions'!B52,0) -> 0 | D39: =IF(3>='Global Assumptions'!B51,'Global Assumptions'!B52,0) -> 0 | E39: =IF(4>='Global Assumptions'!B51,'Global Assumptions'!B52,0) -> 0 | F39: =IF(5>='Global Assumptions'!B51,'Global Assumptions'!B52,0) -> 6000 | G39: =IF(6>='Global Assumptions'!B51,'Global Assumptions'!B52,0) -> 6000 | H39: =IF(7>='Global Assumptions'!B51,'Global Assumptions'!B52,0) -> 6000 | I39: =IF(8>='Global Assumptions'!B51,'Global Assumptions'!B52,0) -> 6000 | J39: =IF(9>='Global Assumptions'!B51,'Global Assumptions'!B52,0) -> 6000 | K39: =IF(10>='Global Assumptions'!B51,'Global Assumptions'!B52,0) -> 6000 | L39: =IF(11>='Global Assumptions'!B51,'Global Assumptions'!B52,0) -> 6000 | M39: =IF(12>='Global Assumptions'!B51,'Global Assumptions'!B52,0) -> 6000
A40: Payroll — Product | B40: =IF(1>='Global Assumptions'!B53,'Global Assumptions'!B54,0) -> 0 | C40: =IF(2>='Global Assumptions'!B53,'Global Assumptions'!B54,0) -> 0 | D40: =IF(3>='Global Assumptions'!B53,'Global Assumptions'!B54,0) -> 0 | E40: =IF(4>='Global Assumptions'!B53,'Global Assumptions'!B54,0) -> 0 | F40: =IF(5>='Global Assumptions'!B53,'Global Assumptions'!B54,0) -> 0 | G40: =IF(6>='Global Assumptions'!B53,'Global Assumptions'!B54,0) -> 0 | H40: =IF(7>='Global Assumptions'!B53,'Global Assumptions'!B54,0) -> 0 | I40: =IF(8>='Global Assumptions'!B53,'Global Assumptions'!B54,0) -> 8000 | J40: =IF(9>='Global Assumptions'!B53,'Global Assumptions'!B54,0) -> 8000 | K40: =IF(10>='Global Assumptions'!B53,'Global Assumptions'!B54,0) -> 8000 | L40: =IF(11>='Global Assumptions'!B53,'Global Assumptions'!B54,0) -> 8000 | M40: =IF(12>='Global Assumptions'!B53,'Global Assumptions'!B54,0) -> 8000
A41: Payroll — Finance | B41: =IF(1>='Global Assumptions'!B55,'Global Assumptions'!B56,0) -> 0 | C41: =IF(2>='Global Assumptions'!B55,'Global Assumptions'!B56,0) -> 0 | D41: =IF(3>='Global Assumptions'!B55,'Global Assumptions'!B56,0) -> 0 | E41: =IF(4>='Global Assumptions'!B55,'Global Assumptions'!B56,0) -> 0 | F41: =IF(5>='Global Assumptions'!B55,'Global Assumptions'!B56,0) -> 0 | G41: =IF(6>='Global Assumptions'!B55,'Global Assumptions'!B56,0) -> 0 | H41: =IF(7>='Global Assumptions'!B55,'Global Assumptions'!B56,0) -> 0 | I41: =IF(8>='Global Assumptions'!B55,'Global Assumptions'!B56,0) -> 0 | J41: =IF(9>='Global Assumptions'!B55,'Global Assumptions'!B56,0) -> 0 | K41: =IF(10>='Global Assumptions'!B55,'Global Assumptions'!B56,0) -> 4000 | L41: =IF(11>='Global Assumptions'!B55,'Global Assumptions'!B56,0) -> 4000 | M41: =IF(12>='Global Assumptions'!B55,'Global Assumptions'!B56,0) -> 4000
A42: Payroll — Ops | B42: =IF(1>='Global Assumptions'!B57,'Global Assumptions'!B58,0) -> 0 | C42: =IF(2>='Global Assumptions'!B57,'Global Assumptions'!B58,0) -> 0 | D42: =IF(3>='Global Assumptions'!B57,'Global Assumptions'!B58,0) -> 0 | E42: =IF(4>='Global Assumptions'!B57,'Global Assumptions'!B58,0) -> 0 | F42: =IF(5>='Global Assumptions'!B57,'Global Assumptions'!B58,0) -> 0 | G42: =IF(6>='Global Assumptions'!B57,'Global Assumptions'!B58,0) -> 0 | H42: =IF(7>='Global Assumptions'!B57,'Global Assumptions'!B58,0) -> 0 | I42: =IF(8>='Global Assumptions'!B57,'Global Assumptions'!B58,0) -> 0 | J42: =IF(9>='Global Assumptions'!B57,'Global Assumptions'!B58,0) -> 5000 | K42: =IF(10>='Global Assumptions'!B57,'Global Assumptions'!B58,0) -> 5000 | L42: =IF(11>='Global Assumptions'!B57,'Global Assumptions'!B58,0) -> 5000 | M42: =IF(12>='Global Assumptions'!B57,'Global Assumptions'!B58,0) -> 5000
A43: Payroll tax & benefits | B43: =(B36+B37+B38+B39+B40+B41+B42)*'Global Assumptions'!B59 -> 6800 | C43: =(C36+C37+C38+C39+C40+C41+C42)*'Global Assumptions'!B59 -> 6800 | D43: =(D36+D37+D38+D39+D40+D41+D42)*'Global Assumptions'!B59 -> 6800 | E43: =(E36+E37+E38+E39+E40+E41+E42)*'Global Assumptions'!B59 -> 6800 | F43: =(F36+F37+F38+F39+F40+F41+F42)*'Global Assumptions'!B59 -> 8000 | G43: =(G36+G37+G38+G39+G40+G41+G42)*'Global Assumptions'!B59 -> 8000 | H43: =(H36+H37+H38+H39+H40+H41+H42)*'Global Assumptions'!B59 -> 9200 | I43: =(I36+I37+I38+I39+I40+I41+I42)*'Global Assumptions'!B59 -> 10800 | J43: =(J36+J37+J38+J39+J40+J41+J42)*'Global Assumptions'!B59 -> 11800 | K43: =(K36+K37+K38+K39+K40+K41+K42)*'Global Assumptions'!B59 -> 12600 | L43: =(L36+L37+L38+L39+L40+L41+L42)*'Global Assumptions'!B59 -> 12600 | M43: =(M36+M37+M38+M39+M40+M41+M42)*'Global Assumptions'!B59 -> 12600
...

Sheet 3-Yr Summary P&L
A1: HeyLily — 3-Year Annual Summary
B2: Year 1 | C2: Year 2 | D2: Year 3 | E2: Driving Assumption / Formula Logic
A3: KEY METRICS
A4: B2B communities (end of year) | B4: ='12-Mo Projections'!M5 -> 93 | C4: =ROUND(B4*'Global Assumptions'!B84,0) -> 837 | D4: =ROUND(C4*'Global Assumptions'!B85,0) -> 4185
A5: B2B covered residents (end of year) | B5: ='12-Mo Projections'!M6 -> 4650 | C5: =C4*'Global Assumptions'!B7 -> 41850 | D5: =D4*'Global Assumptions'!B7 -> 209250
A6: D2C paid subscribers (end of year) | B6: ='12-Mo Projections'!M16 -> 1713 | C6: =ROUND(B6*'Global Assumptions'!B84,0) -> 15417 | D6: =ROUND(C6*'Global Assumptions'!B85,0) -> 77085
A7: D2C free users (end of year) | B7: ='12-Mo Projections'!M14 -> 26253 | C7: =ROUND(B7*'Global Assumptions'!B84,0) -> 236277 | D7: =ROUND(C7*'Global Assumptions'!B85,0) -> 1181385
A8: Total active users (all tiers) | B8: =B5+B6+B7 -> 32616 | C8: =C5+C6+C7 -> 293544 | D8: =D5+D6+D7 -> 1467720
A9: Headcount (FTEs) | B9: ='Global Assumptions'!B46+'Global Assumptions'!B48+1+1+1+1+1 -> 9 | C9: =B9+'Global Assumptions'!B90 -> 14 | D9: =C9+'Global Assumptions'!B91 -> 24
A10: Paid monthly churn rate | B10: ='Global Assumptions'!B39 -> 0.05 | C10: ='Global Assumptions'!B86 -> 0.04 | D10: ='Global Assumptions'!B87 -> 0.03
A12: LTV:CAC ratio (D2C) | B12: 3.7x | C12: =ROUND((1/'Global Assumptions'!B86)*'Global Assumptions'!B28/'Global Assumptions'!B113,1) -> 4.6 | D12: =ROUND((1/'Global Assumptions'!B87)*'Global Assumptions'!B28/'Global Assumptions'!B113,1) -> 6.1
A14: INCOME STATEMENT
A15: B2B community lease revenue | B15: =SUM('12-Mo Projections'!B21:'12-Mo Projections'!M21) -> 105250 | C15: =C5*'Global Assumptions'!B8*12 -> 2511000 | D15: =D5*'Global Assumptions'!B8*12 -> 12555000
A16: D2C paid subscription revenue | B16: =SUM('12-Mo Projections'!B22:'12-Mo Projections'!M22) -> 94411.32 | C16: =C6*'Global Assumptions'!B28*12 -> 2403202 | D16: =D6*'Global Assumptions'!B28*12 -> 12016010
A17: Total Revenue | B17: =B15+B16 -> 199661.32 | C17: =C15+C16 -> 4914202 | D17: =D15+D16 -> 24571010
A18: Revenue growth (YoY) | B18: N/A | C18: =(C17-B17)/B17 -> 23.612689 | D18: =(D17-C17)/C17 -> 4
A20: Cost of Revenue (COGS)
A21: AI compute (paid + free) | B21: =SUM('12-Mo Projections'!B26:'12-Mo Projections'!M26)+SUM('12-Mo Projections'!B27:'12-Mo Projections'!M27) -> 37282.488 | C21: =(C5*'Global Assumptions'!B9+C6)*'Global Assumptions'!B32*'Global Assumptions'!B88*12 + C7*'Global Assumptions'!B32*'Global Assumptions'!B33*'Global Assumptions'!B88*12 -> 837456.97 | D21: =(D5*'Global Assumptions'!B9+D6)*'Global Assumptions'!B32*'Global Assumptions'!B89*12 + D7*'Global Assumptions'!B32*'Global Assumptions'!B33*'Global Assumptions'!B89*12 -> 3256777.1
A22: Telecom/VoIP | B22: =SUM('12-Mo Projections'!B28:'12-Mo Projections'!M28) -> 83448.95 | C22: =(C5*'Global Assumptions'!B9+C6+C7)*'Global Assumptions'!B34*12 -> 2093785.2 | D22: =(D5*'Global Assumptions'!B9+D6+D7)*'Global Assumptions'!B34*12 -> 10468926
A23: Payment processing | B23: =SUM('12-Mo Projections'!B29:'12-Mo Projections'!M29) -> 5790.1783 | C23: =C17*'Global Assumptions'!B35 -> 142511.86 | D23: =D17*'Global Assumptions'!B35 -> 712559.28
A24: Reimbursement reserve | B24: =SUM('12-Mo Projections'!B30:'12-Mo Projections'!M30) -> 3993.2264 | C24: =C17*'Global Assumptions'!B36 -> 98284.039 | D24: =D17*'Global Assumptions'!B36 -> 491420.2
A25: Total COGS | B25: =SUM(B21:B24) -> 130514.84 | C25: =SUM(C21:C24) -> 3172038.1 | D25: =SUM(D21:D24) -> 14929683
A26: Gross Profit | B26: =B17-B25 -> 69146.478 | C26: =C17-C25 -> 1742163.9 | D26: =D17-D25 -> 9641327.2
A27: Gross Margin % | B27: =B26/B17 -> 0.34631885 | C27: =C26/C17 -> 0.35451614 | D27: =D26/D17 -> 0.39238628
A29: Operating Expenses
A30: Payroll — Founders | B30: =SUM('12-Mo Projections'!B36:'12-Mo Projections'!M36) -> 168000 | C30: ='Global Assumptions'!B45*'Global Assumptions'!B46*12 -> 168000 | D30: ='Global Assumptions'!B45*'Global Assumptions'!B46*12 -> 168000
A31: Payroll — Engineers | B31: =SUM('12-Mo Projections'!B37:'12-Mo Projections'!M37) -> 240000 | C31: =('Global Assumptions'!B48+2)*'Global Assumptions'!B92*12 -> 360000 | D31: =(4+3)*'Global Assumptions'!B93*12 -> 714000
A32: Payroll — BD/Sales | B32: =SUM('12-Mo Projections'!B38:'12-Mo Projections'!M38) -> 36000 | C32: =(1+1)*'Global Assumptions'!B92*12 -> 180000 | D32: =(2+2)*'Global Assumptions'!B93*12 -> 408000
A33: Payroll — Marketing | B33: =SUM('12-Mo Projections'!B39:'12-Mo Projections'!M39) -> 48000 | C33: =(1+1)*'Global Assumptions'!B92*12 -> 180000 | D33: =(2+1)*'Global Assumptions'!B93*12 -> 306000
A34: Payroll — Product | B34: =SUM('12-Mo Projections'!B40:'12-Mo Projections'!M40) -> 40000 | C34: =1*'Global Assumptions'!B92*12 -> 90000 | D34: =(1+1)*'Global Assumptions'!B93*12 -> 204000
A35: Payroll — Finance | B35: =SUM('12-Mo Projections'!B41:'12-Mo Projections'!M41) -> 12000 | C35: =1*'Global Assumptions'!B92*12 -> 90000 | D35: =(1+1)*'Global Assumptions'!B93*12 -> 204000
A36: Payroll — Ops | B36: =SUM('12-Mo Projections'!B42:'12-Mo Projections'!M42) -> 20000 | C36: =1*'Global Assumptions'!B92*12 -> 90000 | D36: =(1+2)*'Global Assumptions'!B93*12 -> 306000
A37: Payroll tax & benefits | B37: =SUM('12-Mo Projections'!B43:'12-Mo Projections'!M43) -> 112800 | C37: =(C30+C31+C32+C33+C34+C35+C36)*'Global Assumptions'!B59 -> 231600 | D37: =(D30+D31+D32+D33+D34+D35+D36)*'Global Assumptions'!B59 -> 462000
A38: Marketing — Brand/Content | B38: =SUM('12-Mo Projections'!B44:'12-Mo Projections'!M44) -> 106924 | C38: =B38*(1+'Global Assumptions'!B94) -> 320772 | D38: =C38*(1.2) -> 384926.4
A39: Marketing — Paid Acquisition | B39: =SUM('12-Mo Projections'!B45:'12-Mo Projections'!M45) -> 311889 | C39: =C17*'Global Assumptions'!B99 -> 737130.29 | D39: =D17*'Global Assumptions'!B100 -> 2457101
A40: Total Marketing Spend | B40: =B38+B39 -> 418813 | C40: =C38+C39 -> 1057902.3 | D40: =D38+D39 -> 2842027.4
A41: CAC spend (B2B communities) | B41: =SUM('12-Mo Projections'!B47:'12-Mo Projections'!M47) -> 74400 | C41: =(C4-B4)*'Global Assumptions'!B10 -> 595200 | D41: =(D4-C4)*'Global Assumptions'!B10 -> 2678400
A42: Fixed OpEx (cloud+tools+legal+ins) | B42: =SUM('12-Mo Projections'!B48:'12-Mo Projections'!M48) -> 80950 | C42: =('Global Assumptions'!B62+'Global Assumptions'!B63+'Global Assumptions'!B64+'Global Assumptions'!B65)*12*(1+'Global Assumptions'!B94/100) + ROUND(C8/1000,0)*'Global Assumptions'!B107*12 -> 252288 | D42: =('Global Assumptions'!B62+'Global Assumptions'!B63+'Global Assumptions'!B64+'Global Assumptions'!B65)*12*(1+'Global Assumptions'!B94/100)*(1+'Global Assumptions'!B95/100) + ROUND(D8/1000,0)*'Global Assumptions'!B107*12 -> 958964.64
A43: Total Operating Expenses | B43: =SUM(B30:B42) -> 1669776 | C43: =SUM(C30:C42) -> 4352892.6 | D43: =SUM(D30:D42) -> 12093419
A45: EBITDA (Operating Income/Loss) | B45: =B26-B43 -> -1600629.5 | C45: =C26-C43 -> -2610728.7 | D45: =D26-D43 -> -2452092.2
...

Sheet Cash Flow
A1: HeyLily — 3-Year Cash Flow Statement
B2: Year 1 | C2: Year 2 | D2: Year 3
A3: OPERATING ACTIVITIES
A4: EBITDA (Operating Income/Loss) | B4: ='3-Yr Summary P&L'!B45 -> -1600629.5 | C4: ='3-Yr Summary P&L'!C45 -> -2610728.7 | D4: ='3-Yr Summary P&L'!D45 -> -2452092.2
A5: Working capital changes (memo):
A6: Accounts receivable change | B6: =-'3-Yr Summary P&L'!B17*0.05 -> -9983.066 | C6: =-('3-Yr Summary P&L'!C17-'3-Yr Summary P&L'!B17)*0.05 -> -235727.03 | D6: =-('3-Yr Summary P&L'!D17-'3-Yr Summary P&L'!C17)*0.05 -> -982840.39
A7: Accounts payable change | B7: ='3-Yr Summary P&L'!B43*0.03 -> 50093.28 | C7: =('3-Yr Summary P&L'!C43-'3-Yr Summary P&L'!B43)*0.03 -> 80493.498 | D7: =('3-Yr Summary P&L'!D43-'3-Yr Summary P&L'!C43)*0.03 -> 232215.8
A8: Deferred revenue change | B8: ='3-Yr Summary P&L'!B17*0.02 -> 3993.2264 | C8: =('3-Yr Summary P&L'!C17-'3-Yr Summary P&L'!B17)*0.02 -> 94290.813 | D8: =('3-Yr Summary P&L'!D17-'3-Yr Summary P&L'!C17)*0.02 -> 393136.16
A9: Net Cash from Operating Activities | B9: =B4 -> -1600629.5 | C9: =C4 -> -2610728.7 | D9: =D4 -> -2452092.2
A11: INVESTING ACTIVITIES
A12: One-time setup costs (in beginning bal.) | B12: 0 | C12: 0 | D12: 0
A13: Software/equipment capex (in OpEx) | B13: 0 | C13: 0 | D13: 0
A14: Net Cash from Investing Activities | B14: =B12+B13 -> 0 | C14: =C12+C13 -> 0 | D14: =D12+D13 -> 0
A16: FINANCING ACTIVITIES
A17: Equity capital raised | B17: 0 | C17: =IF('3-Yr Summary P&L'!C54="",0,'3-Yr Summary P&L'!C54) -> 5000000 | D17: =IF('3-Yr Summary P&L'!D54="",0,'3-Yr Summary P&L'!D54) -> 0
A18: Net Cash from Financing Activities | B18: =B17 -> 0 | C18: =C17 -> 5000000 | D18: =D17 -> 0
A20: NET CHANGE IN CASH | B20: =B9+B14+B18 -> -1600629.5 | C20: =C9+C14+C18 -> 2389271.3 | D20: =D9+D14+D18 -> -2452092.2
A22: Beginning cash balance | B22: ='3-Yr Summary P&L'!B55 -> 1985000 | C22: =B23 -> 384370.48 | D22: =C23 -> 2773641.8
A23: Ending cash balance | B23: =B22+B20 -> 384370.48 | C23: =C22+C20 -> 2773641.8 | D23: =D22+D20 -> 321549.57
A25: CASH FLOW METRICS
A26: Monthly average burn rate | B26: =IF(B4<0,B4/12,0) -> -133385.79 | C26: =IF(C4<0,C4/12,0) -> -217560.72 | D26: =IF(D4<0,D4/12,0) -> -204341.02
A27: Months of runway (end of year) | B27: =IF(B26<0,ROUND(-B23/B26,0),"Profitable") -> 3 | C27: =IF(C26<0,ROUND(-C23/C26,0),"Profitable") -> 13 | D27: =IF(D26<0,ROUND(-D23/D26,0),"Profitable") -> 2
A28: Cash conversion (EBITDA to cash) | B28: =IF(B4=0,0,B9/B4) -> 1 | C28: =IF(C4=0,0,C9/C4) -> 1 | D28: =IF(D4=0,0,D9/D4) -> 1

Sheet Sensitivity Analysis
A1: HeyLily — Year 1 Revenue Sensitivity Analysis
A3: YEAR 1 REVENUE SENSITIVITY TO D2C SUBSCRIPTION PRICE
A4: Shows how Year 1 total revenue changes with different Protected and Family tier pricing. B2B lease revenue is unaffected.
A6: Current Assumptions
A7: Protected Tier (annual) | B7: ='Global Assumptions'!B24 -> 120
A8: Family Tier (annual) | B8: ='Global Assumptions'!B26 -> 240
A9: Blended ARPU (monthly) | B9: ='Global Assumptions'!B28 -> 12.99
A10: Y1 B2B Revenue (fixed) | B10: ='3-Yr Summary P&L'!B15 -> 105250
A11: Y1 D2C Revenue (current) | B11: ='3-Yr Summary P&L'!B16 -> 94411.32
A12: Y1 Total Revenue (current) | B12: ='3-Yr Summary P&L'!B17 -> 199661.32
A14: SENSITIVITY TABLE: Y1 Total Revenue
A15: Protected → / Family ↓ | B15: $60/yr | C15: $80/yr | D15: $100/yr | E15: $120/yr | F15: $140/yr | G15: $160/yr | H15: $180/yr
A16: $120/yr | B16: =B10 + B11 * ((0.7*60/12 + 0.3*120/12) / B9) -> 152492 | C16: =B10 + B11 * ((0.7*80/12 + 0.3*120/12) / B9) -> 160971.33 | D16: =B10 + B11 * ((0.7*100/12 + 0.3*120/12) / B9) -> 169450.67 | E16: =B10 + B11 * ((0.7*120/12 + 0.3*120/12) / B9) -> 177930 | F16: =B10 + B11 * ((0.7*140/12 + 0.3*120/12) / B9) -> 186409.33 | G16: =B10 + B11 * ((0.7*160/12 + 0.3*120/12) / B9) -> 194888.67 | H16: =B10 + B11 * ((0.7*180/12 + 0.3*120/12) / B9) -> 203368
A17: $160/yr | B17: =B10 + B11 * ((0.7*60/12 + 0.3*160/12) / B9) -> 159760 | C17: =B10 + B11 * ((0.7*80/12 + 0.3*160/12) / B9) -> 168239.33 | D17: =B10 + B11 * ((0.7*100/12 + 0.3*160/12) / B9) -> 176718.67 | E17: =B10 + B11 * ((0.7*120/12 + 0.3*160/12) / B9) -> 185198 | F17: =B10 + B11 * ((0.7*140/12 + 0.3*160/12) / B9) -> 193677.33 | G17: =B10 + B11 * ((0.7*160/12 + 0.3*160/12) / B9) -> 202156.67 | H17: =B10 + B11 * ((0.7*180/12 + 0.3*160/12) / B9) -> 210636
A18: $200/yr | B18: =B10 + B11 * ((0.7*60/12 + 0.3*200/12) / B9) -> 167028 | C18: =B10 + B11 * ((0.7*80/12 + 0.3*200/12) / B9) -> 175507.33 | D18: =B10 + B11 * ((0.7*100/12 + 0.3*200/12) / B9) -> 183986.67 | E18: =B10 + B11 * ((0.7*120/12 + 0.3*200/12) / B9) -> 192466 | F18: =B10 + B11 * ((0.7*140/12 + 0.3*200/12) / B9) -> 200945.33 | G18: =B10 + B11 * ((0.7*160/12 + 0.3*200/12) / B9) -> 209424.67 | H18: =B10 + B11 * ((0.7*180/12 + 0.3*200/12) / B9) -> 217904
A19: $240/yr | B19: =B10 + B11 * ((0.7*60/12 + 0.3*240/12) / B9) -> 174296 | C19: =B10 + B11 * ((0.7*80/12 + 0.3*240/12) / B9) -> 182775.33 | D19: =B10 + B11 * ((0.7*100/12 + 0.3*240/12) / B9) -> 191254.67 | E19: =B10 + B11 * ((0.7*120/12 + 0.3*240/12) / B9) -> 199734 | F19: =B10 + B11 * ((0.7*140/12 + 0.3*240/12) / B9) -> 208213.33 | G19: =B10 + B11 * ((0.7*160/12 + 0.3*240/12) / B9) -> 216692.67 | H19: =B10 + B11 * ((0.7*180/12 + 0.3*240/12) / B9) -> 225172
A20: $280/yr | B20: =B10 + B11 * ((0.7*60/12 + 0.3*280/12) / B9) -> 181564 | C20: =B10 + B11 * ((0.7*80/12 + 0.3*280/12) / B9) -> 190043.33 | D20: =B10 + B11 * ((0.7*100/12 + 0.3*280/12) / B9) -> 198522.67 | E20: =B10 + B11 * ((0.7*120/12 + 0.3*280/12) / B9) -> 207002 | F20: =B10 + B11 * ((0.7*140/12 + 0.3*280/12) / B9) -> 215481.33 | G20: =B10 + B11 * ((0.7*160/12 + 0.3*280/12) / B9) -> 223960.67 | H20: =B10 + B11 * ((0.7*180/12 + 0.3*280/12) / B9) -> 232440
A21: $320/yr | B21: =B10 + B11 * ((0.7*60/12 + 0.3*320/12) / B9) -> 188832 | C21: =B10 + B11 * ((0.7*80/12 + 0.3*320/12) / B9) -> 197311.33 | D21: =B10 + B11 * ((0.7*100/12 + 0.3*320/12) / B9) -> 205790.67 | E21: =B10 + B11 * ((0.7*120/12 + 0.3*320/12) / B9) -> 214270 | F21: =B10 + B11 * ((0.7*140/12 + 0.3*320/12) / B9) -> 222749.33 | G21: =B10 + B11 * ((0.7*160/12 + 0.3*320/12) / B9) -> 231228.67 | H21: =B10 + B11 * ((0.7*180/12 + 0.3*320/12) / B9) -> 239708
A22: $360/yr | B22: =B10 + B11 * ((0.7*60/12 + 0.3*360/12) / B9) -> 196100 | C22: =B10 + B11 * ((0.7*80/12 + 0.3*360/12) / B9) -> 204579.33 | D22: =B10 + B11 * ((0.7*100/12 + 0.3*360/12) / B9) -> 213058.67 | E22: =B10 + B11 * ((0.7*120/12 + 0.3*360/12) / B9) -> 221538 | F22: =B10 + B11 * ((0.7*140/12 + 0.3*360/12) / B9) -> 230017.33 | G22: =B10 + B11 * ((0.7*160/12 + 0.3*360/12) / B9) -> 238496.67 | H22: =B10 + B11 * ((0.7*180/12 + 0.3*360/12) / B9) -> 246976
A25: SENSITIVITY TABLE: Y1 Revenue by Protected Price × Free→Paid Conversion Rate
A26: Holds Family tier at current $240/yr. Shows how conversion rate amplifies pricing impact on D2C revenue.
A28: Protected → / Conv% ↓ | B28: $60/yr | C28: $80/yr | D28: $100/yr | E28: $120/yr | F28: $140/yr | G28: $160/yr | H28: $180/yr
A29: 0.03 | B29: =B10 + B11 * ((0.7*60/12 + 0.3*240/12) / B9) * (0.03/'Global Assumptions'!B16) -> 139773 | C29: =B10 + B11 * ((0.7*80/12 + 0.3*240/12) / B9) * (0.03/'Global Assumptions'!B16) -> 144012.67 | D29: =B10 + B11 * ((0.7*100/12 + 0.3*240/12) / B9) * (0.03/'Global Assumptions'!B16) -> 148252.33 | E29: =B10 + B11 * ((0.7*120/12 + 0.3*240/12) / B9) * (0.03/'Global Assumptions'!B16) -> 152492 | F29: =B10 + B11 * ((0.7*140/12 + 0.3*240/12) / B9) * (0.03/'Global Assumptions'!B16) -> 156731.67 | G29: =B10 + B11 * ((0.7*160/12 + 0.3*240/12) / B9) * (0.03/'Global Assumptions'!B16) -> 160971.33 | H29: =B10 + B11 * ((0.7*180/12 + 0.3*240/12) / B9) * (0.03/'Global Assumptions'!B16) -> 165211
A30: 0.05 | B30: =B10 + B11 * ((0.7*60/12 + 0.3*240/12) / B9) * (0.05/'Global Assumptions'!B16) -> 162788.33 | C30: =B10 + B11 * ((0.7*80/12 + 0.3*240/12) / B9) * (0.05/'Global Assumptions'!B16) -> 169854.44 | D30: =B10 + B11 * ((0.7*100/12 + 0.3*240/12) / B9) * (0.05/'Global Assumptions'!B16) -> 176920.56 | E30: =B10 + B11 * ((0.7*120/12 + 0.3*240/12) / B9) * (0.05/'Global Assumptions'!B16) -> 183986.67 | F30: =B10 + B11 * ((0.7*140/12 + 0.3*240/12) / B9) * (0.05/'Global Assumptions'!B16) -> 191052.78 | G30: =B10 + B11 * ((0.7*160/12 + 0.3*240/12) / B9) * (0.05/'Global Assumptions'!B16) -> 198118.89 | H30: =B10 + B11 * ((0.7*180/12 + 0.3*240/12) / B9) * (0.05/'Global Assumptions'!B16) -> 205185
A31: 0.07 | B31: =B10 + B11 * ((0.7*60/12 + 0.3*240/12) / B9) * (0.07/'Global Assumptions'!B16) -> 185803.67 | C31: =B10 + B11 * ((0.7*80/12 + 0.3*240/12) / B9) * (0.07/'Global Assumptions'!B16) -> 195696.22 | D31: =B10 + B11 * ((0.7*100/12 + 0.3*240/12) / B9) * (0.07/'Global Assumptions'!B16) -> 205588.78 | E31: =B10 + B11 * ((0.7*120/12 + 0.3*240/12) / B9) * (0.07/'Global Assumptions'!B16) -> 215481.33 | F31: =B10 + B11 * ((0.7*140/12 + 0.3*240/12) / B9) * (0.07/'Global Assumptions'!B16) -> 225373.89 | G31: =B10 + B11 * ((0.7*160/12 + 0.3*240/12) / B9) * (0.07/'Global Assumptions'!B16) -> 235266.44 | H31: =B10 + B11 * ((0.7*180/12 + 0.3*240/12) / B9) * (0.07/'Global Assumptions'!B16) -> 245159
A32: 0.09 | B32: =B10 + B11 * ((0.7*60/12 + 0.3*240/12) / B9) * (0.09/'Global Assumptions'!B16) -> 208819 | C32: =B10 + B11 * ((0.7*80/12 + 0.3*240/12) / B9) * (0.09/'Global Assumptions'!B16) -> 221538 | D32: =B10 + B11 * ((0.7*100/12 + 0.3*240/12) / B9) * (0.09/'Global Assumptions'!B16) -> 234257 | E32: =B10 + B11 * ((0.7*120/12 + 0.3*240/12) / B9) * (0.09/'Global Assumptions'!B16) -> 246976 | F32: =B10 + B11 * ((0.7*140/12 + 0.3*240/12) / B9) * (0.09/'Global Assumptions'!B16) -> 259695 | G32: =B10 + B11 * ((0.7*160/12 + 0.3*240/12) / B9) * (0.09/'Global Assumptions'!B16) -> 272414 | H32: =B10 + B11 * ((0.7*180/12 + 0.3*240/12) / B9) * (0.09/'Global Assumptions'!B16) -> 285133
A33: 0.11 | B33: =B10 + B11 * ((0.7*60/12 + 0.3*240/12) / B9) * (0.11/'Global Assumptions'!B16) -> 231834.33 | C33: =B10 + B11 * ((0.7*80/12 + 0.3*240/12) / B9) * (0.11/'Global Assumptions'!B16) -> 247379.78 | D33: =B10 + B11 * ((0.7*100/12 + 0.3*240/12) / B9) * (0.11/'Global Assumptions'!B16) -> 262925.22 | E33: =B10 + B11 * ((0.7*120/12 + 0.3*240/12) / B9) * (0.11/'Global Assumptions'!B16) -> 278470.67 | F33: =B10 + B11 * ((0.7*140/12 + 0.3*240/12) / B9) * (0.11/'Global Assumptions'!B16) -> 294016.11 | G33: =B10 + B11 * ((0.7*160/12 + 0.3*240/12) / B9) * (0.11/'Global Assumptions'!B16) -> 309561.56 | H33: =B10 + B11 * ((0.7*180/12 + 0.3*240/12) / B9) * (0.11/'Global Assumptions'!B16) -> 325107
A34: 0.13 | B34: =B10 + B11 * ((0.7*60/12 + 0.3*240/12) / B9) * (0.13/'Global Assumptions'!B16) -> 254849.67 | C34: =B10 + B11 * ((0.7*80/12 + 0.3*240/12) / B9) * (0.13/'Global Assumptions'!B16) -> 273221.56 | D34: =B10 + B11 * ((0.7*100/12 + 0.3*240/12) / B9) * (0.13/'Global Assumptions'!B16) -> 291593.44 | E34: =B10 + B11 * ((0.7*120/12 + 0.3*240/12) / B9) * (0.13/'Global Assumptions'!B16) -> 309965.33 | F34: =B10 + B11 * ((0.7*140/12 + 0.3*240/12) / B9) * (0.13/'Global Assumptions'!B16) -> 328337.22 | G34: =B10 + B11 * ((0.7*160/12 + 0.3*240/12) / B9) * (0.13/'Global Assumptions'!B16) -> 346709.11 | H34: =B10 + B11 * ((0.7*180/12 + 0.3*240/12) / B9) * (0.13/'Global Assumptions'!B16) -> 365081
A35: 0.15 | B35: =B10 + B11 * ((0.7*60/12 + 0.3*240/12) / B9) * (0.15/'Global Assumptions'!B16) -> 277865 | C35: =B10 + B11 * ((0.7*80/12 + 0.3*240/12) / B9) * (0.15/'Global Assumptions'!B16) -> 299063.33 | D35: =B10 + B11 * ((0.7*100/12 + 0.3*240/12) / B9) * (0.15/'Global Assumptions'!B16) -> 320261.67 | E35: =B10 + B11 * ((0.7*120/12 + 0.3*240/12) / B9) * (0.15/'Global Assumptions'!B16) -> 341460 | F35: =B10 + B11 * ((0.7*140/12 + 0.3*240/12) / B9) * (0.15/'Global Assumptions'!B16) -> 362658.33 | G35: =B10 + B11 * ((0.7*160/12 + 0.3*240/12) / B9) * (0.15/'Global Assumptions'!B16) -> 383856.67 | H35: =B10 + B11 * ((0.7*180/12 + 0.3*240/12) / B9) * (0.15/'Global Assumptions'!B16) -> 405055
